BEGIN:VCALENDAR
VERSION:2.0
PRODID:-//hacksw/handcal//NONSGML v1.0//EN
BEGIN:VEVENT
SUMMARY:Stages ete 2026 - Aviron
UID:232be723-306d-4069-9c43-5272964ecc2b
DTSTART:20260705T220000Z
DTEND:20260828T220000Z
LOCATION:SNL 131 quai de la Gourdine 77400  Lagny-sur-Marne 
CATEGORIES:Stage
STATUS:
DESCRIPTION:<div class="row" style="margin-right:-12px;
 margin-left:-12px; text-align:start">
 <div class="col-12"
 style="width:1376px; max-width:100%; padding-right:12px;
 padding-left:12px">
 <p class="infos-publications"
 style="margin-bottom:16px"><span style="font-size:16px"><span
 style="box-sizing:border-box"><span
 style="--bs-gutter-x:1.5rem"><span style="--bs-gutter-y:0"><span
 style="display:flex"><span style="flex-wrap:wrap"><span
 style="color:#777777"><span style="font-family:Arial,
 sans-serif"><span style="font-style:normal"><span
 style="font-variant-ligatures:normal"><span
 style="font-weight:400"><span style="white-space:normal"><span
 style="background-color:#ffffff"><span
 style="text-decoration-thickness:initial"><span
 style="text-decoration-style:initial"><span
 style="text-decoration-color:initial"><span
 style="box-sizing:border-box"><span style="flex:0 0 auto"><span
 style="box-sizing:border-box"><strong style="box-sizing:border-box;
 font-weight:bolder">Venez decouvrir l’aviron sur la Marne dans une
 ambiance conviviale. Vous evoluerez sur un plan d’eau borde
 d’arbres et le charme de ce lieu pittoresque, si proche de la ville
 ou la nature reprend vie. Accessible des 10 ans pour tous niveaux et
 encadres par des entraineurs diplomes, ces stages decouverte /
 initiation sont fortement conseilles avant votre inscription en
 septembre. </strong></span></span></span></span></span></span></span></span></span></span></span></span></span></span></span></span></span></span></span></p>
 </div>
 </div>
 
 <div
 class="row" style="margin-right:-12px; margin-left:-12px;
 text-align:start">
 <div class="col-12" style="width:1376px;
 max-width:100%; padding-right:12px; padding-left:12px">
 <section
 id="main-content" style="box-sizing:border-box">
 <p
 style="margin-bottom:16px"><span style="font-size:16px"><span
 style="box-sizing:border-box"><span
 style="--bs-gutter-x:1.5rem"><span style="--bs-gutter-y:0"><span
 style="display:flex"><span style="flex-wrap:wrap"><span
 style="color:#777777"><span style="font-family:Arial,
 sans-serif"><span style="font-style:normal"><span
 style="font-variant-ligatures:normal"><span
 style="font-weight:400"><span style="white-space:normal"><span
 style="background-color:#ffffff"><span
 style="text-decoration-thickness:initial"><span
 style="text-decoration-style:initial"><span
 style="text-decoration-color:initial"><span
 style="box-sizing:border-box"><span style="flex:0 0 auto"><span
 style="box-sizing:border-box"><strong style="box-sizing:border-box;
 font-weight:bolder">Dates : du 6 juillet au 28 aout
 2026</strong></span></span></span></span></span></span></span></span></span></span></span></span></span></span></span></span></span></span></span></p>
 
 <ul
 style="box-sizing:border-box; padding-left:2rem;
 margin-bottom:16px">
 	<li>Semaine 1 - du 6 au 10 juillet - stage de
 4 jours (lundi-mardi-jeudi-vendredi)</li>
 	<li>Semaine 2 - du 13 au
 17 juillet</li>
 	<li>Semaine 3 - du 20 au 24
 juillet</li>
 	<li>Semaine 4 - du 27 au 31 juillet</li>
 	<li>Semaine
 5 - du 3 au 7 aout </li>
 	<li>Semaine 6 - du 10 au
 14 aout </li>
 	<li>Semaine 7 - du 17 au 21
 aout </li>
 	<li>Semaine 8 - du 24 au 28 aout </li>
 </ul>
 
 <p
 style="margin-bottom:16px"><span style="font-size:16px"><span
 style="box-sizing:border-box"><span
 style="--bs-gutter-x:1.5rem"><span style="--bs-gutter-y:0"><span
 style="display:flex"><span style="flex-wrap:wrap"><span
 style="color:#777777"><span style="font-family:Arial,
 sans-serif"><span style="font-style:normal"><span
 style="font-variant-ligatures:normal"><span
 style="font-weight:400"><span style="white-space:normal"><span
 style="background-color:#ffffff"><span
 style="text-decoration-thickness:initial"><span
 style="text-decoration-style:initial"><span
 style="text-decoration-color:initial"><span
 style="box-sizing:border-box"><span style="flex:0 0 auto"><span
 style="box-sizing:border-box"><strong style="box-sizing:border-box;
 font-weight:bolder">Fonctionnement des stages
 :</strong></span></span></span></span></span></span></span></span></span></span></span></span></span></span></span></span></span></span></span></p>
 
 <ul
 style="box-sizing:border-box; padding-left:2rem;
 margin-bottom:16px">
 	<li style="box-sizing:border-box"><span
 style="font-size:16px"><span style="box-sizing:border-box"><span
 style="--bs-gutter-x:1.5rem"><span style="--bs-gutter-y:0"><span
 style="display:flex"><span style="flex-wrap:wrap"><span
 style="color:#777777"><span style="font-family:Arial,
 sans-serif"><span style="font-style:normal"><span
 style="font-variant-ligatures:normal"><span
 style="font-weight:400"><span style="white-space:normal"><span
 style="background-color:#ffffff"><span
 style="text-decoration-thickness:initial"><span
 style="text-decoration-style:initial"><span
 style="text-decoration-color:initial"><span
 style="box-sizing:border-box"><span style="flex:0 0 auto"><strong
 style="box-sizing:border-box; font-weight:bolder">Demi-journees du
 lundi au vendredi :</strong> Le matin de 9h a 12h /
 L’apres-midi de 14h a 17h
 </span></span></span></span></span></span></span></span></span></span></span></span></span></span></span></span></span></span></li>
 	<li
 style="box-sizing:border-box"><span style="font-size:16px"><span
 style="box-sizing:border-box"><span
 style="--bs-gutter-x:1.5rem"><span style="--bs-gutter-y:0"><span
 style="display:flex"><span style="flex-wrap:wrap"><span
 style="color:#777777"><span style="font-family:Arial,
 sans-serif"><span style="font-style:normal"><span
 style="font-variant-ligatures:normal"><span
 style="font-weight:400"><span style="white-space:normal"><span
 style="background-color:#ffffff"><span
 style="text-decoration-thickness:initial"><span
 style="text-decoration-style:initial"><span
 style="text-decoration-color:initial"><span
 style="box-sizing:border-box"><span style="flex:0 0 auto"><strong
 style="box-sizing:border-box; font-weight:bolder">Journees completes
 : </strong>de 9h a 17h (Prevoir un pique-nique et un
 gouter)</span></span></span></span></span></span></span></span></span></span></span></span></span></span></span></span></span></span></li>
 	<li
 style="box-sizing:border-box"><span style="font-size:16px"><span
 style="box-sizing:border-box"><span
 style="--bs-gutter-x:1.5rem"><span style="--bs-gutter-y:0"><span
 style="display:flex"><span style="flex-wrap:wrap"><span
 style="color:#777777"><span style="font-family:Arial,
 sans-serif"><span style="font-style:normal"><span
 style="font-variant-ligatures:normal"><span
 style="font-weight:400"><span style="white-space:normal"><span
 style="background-color:#ffffff"><span
 style="text-decoration-thickness:initial"><span
 style="text-decoration-style:initial"><span
 style="text-decoration-color:initial"><span
 style="box-sizing:border-box"><span style="flex:0 0 auto"><strong
 style="box-sizing:border-box; font-weight:bolder">Nouveau
 ! </strong>Seances en soiree pour les adultes : de 19h30 a
 21h</span></span></span></span></span></span></span></span></span></span></span></span></span></span></span></span></span></span></li>
 	<li
 style="box-sizing:border-box"><span style="font-size:16px"><span
 style="box-sizing:border-box"><span
 style="--bs-gutter-x:1.5rem"><span style="--bs-gutter-y:0"><span
 style="display:flex"><span style="flex-wrap:wrap"><span
 style="color:#777777"><span style="font-family:Arial,
 sans-serif"><span style="font-style:normal"><span
 style="font-variant-ligatures:normal"><span
 style="font-weight:400"><span style="white-space:normal"><span
 style="background-color:#ffffff"><span
 style="text-decoration-thickness:initial"><span
 style="text-decoration-style:initial"><span
 style="text-decoration-color:initial"><span
 style="box-sizing:border-box"><span style="flex:0 0 auto"><strong
 style="box-sizing:border-box; font-weight:bolder">Nombre de jours :
 </strong>seulement 4 pour la semaine 1 (lundi-mardi-jeudi-vendredi),
 puis 5 pour les autres (du lundi au
 vendredi)</span></span></span></span></span></span></span></span></span></span></span></span></span></span></span></span></span></span></li>
 </ul>
 
 <p
 style="margin-bottom:16px"><span style="font-size:16px"><span
 style="box-sizing:border-box"><span
 style="--bs-gutter-x:1.5rem"><span style="--bs-gutter-y:0"><span
 style="display:flex"><span style="flex-wrap:wrap"><span
 style="color:#777777"><span style="font-family:Arial,
 sans-serif"><span style="font-style:normal"><span
 style="font-variant-ligatures:normal"><span
 style="font-weight:400"><span style="white-space:normal"><span
 style="background-color:#ffffff"><span
 style="text-decoration-thickness:initial"><span
 style="text-decoration-style:initial"><span
 style="text-decoration-color:initial"><span
 style="box-sizing:border-box"><span style="flex:0 0 auto"><span
 style="box-sizing:border-box"><strong style="box-sizing:border-box;
 font-weight:bolder">Participation financiere
 :</strong></span></span></span></span></span></span></span></span></span></span></span></span></span></span></span></span></span></span></span></p>
 
 <ul
 style="box-sizing:border-box; padding-left:2rem;
 margin-bottom:16px">
 	<li style="box-sizing:border-box"><span
 style="font-size:16px"><span style="box-sizing:border-box"><span
 style="--bs-gutter-x:1.5rem"><span style="--bs-gutter-y:0"><span
 style="display:flex"><span style="flex-wrap:wrap"><span
 style="color:#777777"><span style="font-family:Arial,
 sans-serif"><span style="font-style:normal"><span
 style="font-variant-ligatures:normal"><span
 style="font-weight:400"><span style="white-space:normal"><span
 style="background-color:#ffffff"><span
 style="text-decoration-thickness:initial"><span
 style="text-decoration-style:initial"><span
 style="text-decoration-color:initial"><span
 style="box-sizing:border-box"><span style="flex:0 0
 auto">Demi-journees et soirees adultes : <strong
 style="box-sizing:border-box; font-weight:bolder">120€ par stage
 (semaine 1), 150 € par stage (semaines 2 a
 8)</strong></span></span></span></span></span></span></span></span></span></span></span></span></span></span></span></span></span></span></li>
 	<li
 style="box-sizing:border-box"><span style="font-size:16px"><span
 style="box-sizing:border-box"><span
 style="--bs-gutter-x:1.5rem"><span style="--bs-gutter-y:0"><span
 style="display:flex"><span style="flex-wrap:wrap"><span
 style="color:#777777"><span style="font-family:Arial,
 sans-serif"><span style="font-style:normal"><span
 style="font-variant-ligatures:normal"><span
 style="font-weight:400"><span style="white-space:normal"><span
 style="background-color:#ffffff"><span
 style="text-decoration-thickness:initial"><span
 style="text-decoration-style:initial"><span
 style="text-decoration-color:initial"><span
 style="box-sizing:border-box"><span style="flex:0 0 auto">Journee
 complete : <strong style="box-sizing:border-box;
 font-weight:bolder">200€ par stage (semaine 1), </strong><strong
 style="box-sizing:border-box; font-weight:bolder">250 € par stage
 (semaines 2 a
 8)</strong></span></span></span></span></span></span></span></span></span></span></span></span></span></span></span></span></span></span></li>
 </ul>
 
 <p
 style="margin-bottom:16px"><span style="font-size:16px"><span
 style="box-sizing:border-box"><span
 style="--bs-gutter-x:1.5rem"><span style="--bs-gutter-y:0"><span
 style="display:flex"><span style="flex-wrap:wrap"><span
 style="color:#777777"><span style="font-family:Arial,
 sans-serif"><span style="font-style:normal"><span
 style="font-variant-ligatures:normal"><span
 style="font-weight:400"><span style="white-space:normal"><span
 style="background-color:#ffffff"><span
 style="text-decoration-thickness:initial"><span
 style="text-decoration-style:initial"><span
 style="text-decoration-color:initial"><span
 style="box-sizing:border-box"><span style="flex:0 0 auto"><span
 style="box-sizing:border-box">Ce montant comprend l’assurance MAIF
 a travers la licence decouverte FFA. Une reduction financiere sur les
 droits d'entree sera consentie en cas d'inscription lors de votre
 inscription pour la prochaine saison sportive en septembre. Les
 inscriptions seront validees a reception de votre paiement en ligne
 par carte bancaire, par courrier pour cheque, cheques vacances ou
 coupons sports. Nous acceptions aussi le Pass Sport (sur presentation
 du code
 individuel).</span></span></span></span></span></span></span></span></span></span></span></span></span></span></span></span></span></span></span></p>
 
 <p
 style="margin-bottom:16px"><span style="font-size:16px"><span
 style="box-sizing:border-box"><span
 style="--bs-gutter-x:1.5rem"><span style="--bs-gutter-y:0"><span
 style="display:flex"><span style="flex-wrap:wrap"><span
 style="color:#777777"><span style="font-family:Arial,
 sans-serif"><span style="font-style:normal"><span
 style="font-variant-ligatures:normal"><span
 style="font-weight:400"><span style="white-space:normal"><span
 style="background-color:#ffffff"><span
 style="text-decoration-thickness:initial"><span
 style="text-decoration-style:initial"><span
 style="text-decoration-color:initial"><span
 style="box-sizing:border-box"><span style="flex:0 0 auto"><span
 style="box-sizing:border-box"><strong style="box-sizing:border-box;
 font-weight:bolder">Nombre de participants :</strong> Limite a 15
 par
 stage</span></span></span></span></span></span></span></span></span></span></span></span></span></span></span></span></span></span></span></p>
 
 <p
 style="margin-bottom:16px"><span style="font-size:16px"><span
 style="box-sizing:border-box"><span
 style="--bs-gutter-x:1.5rem"><span style="--bs-gutter-y:0"><span
 style="display:flex"><span style="flex-wrap:wrap"><span
 style="color:#777777"><span style="font-family:Arial,
 sans-serif"><span style="font-style:normal"><span
 style="font-variant-ligatures:normal"><span
 style="font-weight:400"><span style="white-space:normal"><span
 style="background-color:#ffffff"><span
 style="text-decoration-thickness:initial"><span
 style="text-decoration-style:initial"><span
 style="text-decoration-color:initial"><span
 style="box-sizing:border-box"><span style="flex:0 0 auto"><span
 style="box-sizing:border-box"><strong style="box-sizing:border-box;
 font-weight:bolder">Conseils pratiques
 :</strong></span></span></span></span></span></span></span></span></span></span></span></span></span></span></span></span></span></span></span></p>
 
 <ul
 style="box-sizing:border-box; padding-left:2rem;
 margin-bottom:16px">
 	<li style="box-sizing:border-box"><span
 style="font-size:16px"><span style="box-sizing:border-box"><span
 style="--bs-gutter-x:1.5rem"><span style="--bs-gutter-y:0"><span
 style="display:flex"><span style="flex-wrap:wrap"><span
 style="color:#777777"><span style="font-family:Arial,
 sans-serif"><span style="font-style:normal"><span
 style="font-variant-ligatures:normal"><span
 style="font-weight:400"><span style="white-space:normal"><span
 style="background-color:#ffffff"><span
 style="text-decoration-thickness:initial"><span
 style="text-decoration-style:initial"><span
 style="text-decoration-color:initial"><span
 style="box-sizing:border-box"><span style="flex:0 0 auto">Tenue :
 pres du corps (type cycliste) et si poches, possibilite de les
 fermer.</span></span></span></span></span></span></span></span></span></span></span></span></span></span></span></span></span></span></li>
 	<li
 style="box-sizing:border-box"><span style="font-size:16px"><span
 style="box-sizing:border-box"><span
 style="--bs-gutter-x:1.5rem"><span style="--bs-gutter-y:0"><span
 style="display:flex"><span style="flex-wrap:wrap"><span
 style="color:#777777"><span style="font-family:Arial,
 sans-serif"><span style="font-style:normal"><span
 style="font-variant-ligatures:normal"><span
 style="font-weight:400"><span style="white-space:normal"><span
 style="background-color:#ffffff"><span
 style="text-decoration-thickness:initial"><span
 style="text-decoration-style:initial"><span
 style="text-decoration-color:initial"><span
 style="box-sizing:border-box"><span style="flex:0 0 auto">Protection
 solaire : lunettes, casquette et creme
 solaire</span></span></span></span></span></span></span></span></span></span></span></span></span></span></span></span></span></span></li>
 	<li
 style="box-sizing:border-box"><span style="font-size:16px"><span
 style="box-sizing:border-box"><span
 style="--bs-gutter-x:1.5rem"><span style="--bs-gutter-y:0"><span
 style="display:flex"><span style="flex-wrap:wrap"><span
 style="color:#777777"><span style="font-family:Arial,
 sans-serif"><span style="font-style:normal"><span
 style="font-variant-ligatures:normal"><span
 style="font-weight:400"><span style="white-space:normal"><span
 style="background-color:#ffffff"><span
 style="text-decoration-thickness:initial"><span
 style="text-decoration-style:initial"><span
 style="text-decoration-color:initial"><span
 style="box-sizing:border-box"><span style="flex:0 0 auto">Equipement
 : Change (haut et bas) et chaussures de sport
 legere</span></span></span></span></span></span></span></span></span></span></span></span></span></span></span></span></span></span></li>
 </ul>
 
 <p
 style="margin-bottom:16px"><span style="font-size:16px"><span
 style="box-sizing:border-box"><span
 style="--bs-gutter-x:1.5rem"><span style="--bs-gutter-y:0"><span
 style="display:flex"><span style="flex-wrap:wrap"><span
 style="color:#777777"><span style="font-family:Arial,
 sans-serif"><span style="font-style:normal"><span
 style="font-variant-ligatures:normal"><span
 style="font-weight:400"><span style="white-space:normal"><span
 style="background-color:#ffffff"><span
 style="text-decoration-thickness:initial"><span
 style="text-decoration-style:initial"><span
 style="text-decoration-color:initial"><span
 style="box-sizing:border-box"><span style="flex:0 0 auto"><span
 style="box-sizing:border-box"><strong style="box-sizing:border-box;
 font-weight:bolder">Comment s'inscrire
 :</strong></span></span></span></span></span></span></span></span></span></span></span></span></span></span></span></span></span></span></span></p>
 
 <ul
 style="box-sizing:border-box; padding-left:2rem;
 margin-bottom:16px">
 	<li style="box-sizing:border-box">
 	<p
 style="margin-bottom:16px"><span style="font-size:16px"><span
 style="box-sizing:border-box"><span
 style="--bs-gutter-x:1.5rem"><span style="--bs-gutter-y:0"><span
 style="display:flex"><span style="flex-wrap:wrap"><span
 style="color:#777777"><span style="font-family:Arial,
 sans-serif"><span style="font-style:normal"><span
 style="font-variant-ligatures:normal"><span
 style="font-weight:400"><span style="white-space:normal"><span
 style="background-color:#ffffff"><span
 style="text-decoration-thickness:initial"><span
 style="text-decoration-style:initial"><span
 style="text-decoration-color:initial"><span
 style="box-sizing:border-box"><span style="flex:0 0 auto"><span
 style="box-sizing:border-box"><strong style="box-sizing:border-box;
 font-weight:bolder">Si vous avez deja un
 profil</strong> connectez-vous avec votre adresse mail et votre mot
 de passe<br style="box-sizing:border-box" />
 	pour remplir le
 formulaire d’adhesion et indiquer vos presences aux dates
 choisies.</span></span></span></span></span></span></span></span></span></span></span></span></span></span></span></span></span></span></span></p>
 	</li>
 	<li
 style="box-sizing:border-box">
 	<p style="margin-bottom:16px"><span
 style="font-size:16px"><span style="box-sizing:border-box"><span
 style="--bs-gutter-x:1.5rem"><span style="--bs-gutter-y:0"><span
 style="display:flex"><span style="flex-wrap:wrap"><span
 style="color:#777777"><span style="font-family:Arial,
 sans-serif"><span style="font-style:normal"><span
 style="font-variant-ligatures:normal"><span
 style="font-weight:400"><span style="white-space:normal"><span
 style="background-color:#ffffff"><span
 style="text-decoration-thickness:initial"><span
 style="text-decoration-style:initial"><span
 style="text-decoration-color:initial"><span
 style="box-sizing:border-box"><span style="flex:0 0 auto"><span
 style="box-sizing:border-box"><strong style="box-sizing:border-box;
 font-weight:bolder">Pas encore de profil ?</strong> Rien de plus
 simple : Cliquez sur 'Se connecter' en haut a gauche de la page
 d'accueil du site puis creer un compte.<br
 style="box-sizing:border-box" />
 	Suivez les instructions et
 confirmez votre inscription via le lien que vous recevrez de
 SportsRegion par
 e-mail. </span></span></span></span></span></span></span></span></span></span></span></span></span></span></span></span></span></span></span><span
 style="font-size:16px"><span style="box-sizing:border-box"><span
 style="--bs-gutter-x:1.5rem"><span style="--bs-gutter-y:0"><span
 style="display:flex"><span style="flex-wrap:wrap"><span
 style="color:#777777"><span style="font-family:Arial,
 sans-serif"><span style="font-style:normal"><span
 style="font-variant-ligatures:normal"><span
 style="font-weight:400"><span style="white-space:normal"><span
 style="background-color:#ffffff"><span
 style="text-decoration-thickness:initial"><span
 style="text-decoration-style:initial"><span
 style="text-decoration-color:initial"><span
 style="box-sizing:border-box"><span style="flex:0 0 auto"><span
 style="box-sizing:border-box">Ensuite vous pourrez vous connecter
 avec votre adresse mail et le mot de passe du compte que vous venez
 de
 creer</span></span></span></span></span></span></span></span></span></span></span></span></span></span></span></span></span></span></span></p>
 	</li>
 </ul>
 
 <h3
 style="margin-bottom: 8px; text-align: center;"> </h3>
 
 <h3
 style="margin-bottom: 8px;">Pour toute question ou renseignement
 supplementaire, n'hesitez pas a nous ecrire a <a
 href="https://www.lagny-aviron.com/contactez-nous">nous
 contacter</a>. </h3>
 
 <p> </p>
 
 <h3 style="margin-bottom:
 8px;"><span style="box-sizing:border-box"><span
 style="--bs-gutter-x:1.5rem"><span style="--bs-gutter-y:0"><span
 style="display:flex"><span style="flex-wrap:wrap"><span
 style="color:#777777"><span style="font-family:Arial,
 sans-serif"><span style="box-sizing:border-box"><span style="flex:0 0
 auto"><span style="font-size:1.2em"><span
 style="box-sizing:border-box"><span style="line-height:1.2"><span
 style="box-sizing:border-box"><span
 style="font-weight:bolder">FORMULAIRE D’INSCRIPTION AUX STAGES ETE
 2026 - Voir
 ci-dessous</span></span></span></span></span></span></span></span></span></span></span></span></span></span></h3>
 </section>
 </div>
 </div>
URL;VALUE=URI:https://www.lagny-aviron.com/evenements/2026/07/06/stages-ete-2026-aviron-2438804
END:VEVENT
END:VCALENDAR
